BEGIN:VCALENDAR
VERSION:2.0
PRODID:-//Talks.cam//talks.cam.ac.uk//
X-WR-CALNAME:Talks.cam
BEGIN:VEVENT
SUMMARY:Monopoles\, Sphalerons and Non-Abelian Black Holes - Jutta Kunz (O
 ldenburg)
DTSTART:20090210T160000Z
DTEND:20090210T170000Z
UID:TALK16362@talks.cam.ac.uk
CONTACT:Professor Maciej Dunajski
DESCRIPTION:Abstract not available
LOCATION:DAMTP\, room MR11
END:VEVENT
END:VCALENDAR
