BEGIN:VCALENDAR
VERSION:2.0
PRODID:-//Talks.cam//talks.cam.ac.uk//
X-WR-CALNAME:Talks.cam
BEGIN:VEVENT
SUMMARY:Cambridge - Corporate Finance Theory Symposium 2022 - See the prog
 ramme on our website
DTSTART:20220916T110000Z
DTEND:20220916T163000Z
UID:TALK163456@talks.cam.ac.uk
CONTACT:CERF/CF Admin
DESCRIPTION:See the programme on our website
LOCATION:The Møller Centre | Storey’s Way\, | Cambridge |CB3 0DS
END:VEVENT
END:VCALENDAR
