BEGIN:VCALENDAR
VERSION:2.0
PRODID:-//Talks.cam//talks.cam.ac.uk//
X-WR-CALNAME:Talks.cam
BEGIN:VEVENT
SUMMARY:Vulnerable Road-User Detection and Tracking - Yan Ke\, Vehicles Gr
 oup
DTSTART:20211029T150000Z
DTEND:20211029T160000Z
UID:TALK161581@talks.cam.ac.uk
CONTACT:46601
DESCRIPTION:Abstract not available
LOCATION:JDB Seminar Room\, CUED
END:VEVENT
END:VCALENDAR
