BEGIN:VCALENDAR
VERSION:2.0
PRODID:-//Talks.cam//talks.cam.ac.uk//
X-WR-CALNAME:Talks.cam
BEGIN:VEVENT
SUMMARY:CANCELLED !!! "Uncovering and Exploiting Chinks in Cancer's Armour
 " - CANCELLED !!! - Prof Alan Ashworth (Institute of Cancer Research Direc
 tor – London)
DTSTART:20090216T000000Z
DTEND:20090216T000000Z
UID:TALK16042@talks.cam.ac.uk
CONTACT:Dr Karyn Megy
DESCRIPTION:!!! DUE TO UNFORSEEN EVENT THE TALK IS CANCELLED !!!
LOCATION:CANCELLED
END:VEVENT
END:VCALENDAR
