BEGIN:VCALENDAR
VERSION:2.0
PRODID:-//Talks.cam//talks.cam.ac.uk//
X-WR-CALNAME:Talks.cam
BEGIN:VEVENT
SUMMARY:MHAW: Psychosis - Making and Inhabiting a Different Reality - Prof
 essor Paul Fletcher\, Department of Psychiatry
DTSTART:20210514T110000Z
DTEND:20210514T120000Z
UID:TALK160405@talks.cam.ac.uk
CONTACT:100744
DESCRIPTION:Paul aims to remove stigma and reduce suffering by demystifyin
 g psychosis.\n\nRead more and book here https://www.eventbrite.co.uk/e/psy
 chosis-tickets-150155975565
LOCATION:Zoom
END:VEVENT
END:VCALENDAR
