BEGIN:VCALENDAR
VERSION:2.0
PRODID:-//Talks.cam//talks.cam.ac.uk//
X-WR-CALNAME:Talks.cam
BEGIN:VEVENT
SUMMARY:Race Awareness : Whiteness and Being an Antiracist Ally - 2nd Sess
 ion - Joanna Jasiewicz (Equality\, Diversity and Inclusion Consultant \, U
 niversity of Cambridge)
DTSTART:20210512T130000Z
DTEND:20210512T140000Z
UID:TALK159511@talks.cam.ac.uk
CONTACT:100744
DESCRIPTION:Come along to this session if you’d like to develop tools fo
 r becoming an antiracist ally and to build a strong antiracist identity.\n
 \nWhile the session may be most helpful to white colleagues\, everyone is 
 warmly invited to attend.\n\nYOU MUST BE AVAILABLE TO ATTEND BOTH SESSIONS
  .\n\nBook your place https://www.training.cam.ac.uk/equality/event/387850
 9\n\nMembers of the University who do not have a Raven login can book thei
 r place via email to the EDI team on equality@admin.cam.ac.uk
LOCATION:Zoom
END:VEVENT
END:VCALENDAR
