BEGIN:VCALENDAR
VERSION:2.0
PRODID:-//Talks.cam//talks.cam.ac.uk//
X-WR-CALNAME:Talks.cam
BEGIN:VEVENT
SUMMARY:The Speed of Pathogen Adaptation to Vaccines - Sylvain Gandon (Cen
 tre d'Écologie Fonctionnelle et Évolutive)
DTSTART:20210419T143000Z
DTEND:20210419T150000Z
UID:TALK158758@talks.cam.ac.uk
CONTACT:INI IT
DESCRIPTION:
LOCATION:Seminar Room 1\, Newton Institute
END:VEVENT
END:VCALENDAR
