BEGIN:VCALENDAR
VERSION:2.0
PRODID:-//Talks.cam//talks.cam.ac.uk//
X-WR-CALNAME:Talks.cam
BEGIN:VEVENT
SUMMARY:Mental Health Awareness Week 10-16 May  - Wellbeing Event 
DTSTART:20210510T100000Z
DTEND:20210510T110000Z
UID:TALK158515@talks.cam.ac.uk
CONTACT:100744
DESCRIPTION:Mental Health Awareness Week\nHosted by the Mental Health Foun
 dation\, Mental Health Awareness Week will take place from 10-16 May 2021.
  The theme is 'Nature'.\n\nFor full details visit https://www.mentalhealth
 .org.uk/campaigns/mental-health-awareness-week
LOCATION:Zoom
END:VEVENT
END:VCALENDAR
