BEGIN:VCALENDAR
VERSION:2.0
PRODID:-//Talks.cam//talks.cam.ac.uk//
X-WR-CALNAME:Talks.cam
BEGIN:VEVENT
SUMMARY:Cambridge Reproduction Early Researchers Seminar Series: Su Young 
 Han (PDN) and Jinal Dadiya (Law) - Su Young Han (PDN) and Jinal Dadiya (La
 w)
DTSTART:20210311T130000Z
DTEND:20210311T140000Z
UID:TALK158092@talks.cam.ac.uk
CONTACT:S J Beard / Romola Davenport / Lisa Tilley
DESCRIPTION:You are very warmly invited to join us for the next event in o
 ur Early Researchers Seminar Series\, which brings together early career r
 esearchers from around Cambridge to discuss topics related to reproduction
 . Everyone is very welcome to attend\, whether or not they are an early ca
 reer researcher!\n \nEarly Researchers Seminar Series (ERSS)\n\n11 March\,
  1pm-2pm\n\n*Shedding light on the GnRH pulse generator*\n\n_Su Young Han 
 (PDN)_\n\n*Medical need and cost effectiveness in ART funding: best practi
 ces for realising reproductive rights*\n\n_Jinal Dadiya (Law)_\n\n*Chair*:
  Dr Rumiana Yotova (Law)\n \nThis seminar will take place on Zoom\; *to re
 ceive the meeting details\, please register first* at https://zoom.us/meet
 ing/register/tJEqc-ytqjMoGNR9o8mKWXriwm2Xb3ZI_7wX.\n\nMore information\, i
 ncluding abstracts and speaker biographies: https://www.repro.cam.ac.uk/ev
 ents/early-researchers-seminar-series-su-young-han-pdn-and-jinal-dadiya-la
 w.
LOCATION:Online
END:VEVENT
END:VCALENDAR
