BEGIN:VCALENDAR
VERSION:2.0
PRODID:-//Talks.cam//talks.cam.ac.uk//
X-WR-CALNAME:Talks.cam
BEGIN:VEVENT
SUMMARY:Non-canonical cross-presentation: what is it and when does it work
 ?” - Julie Magarian Blander\, Cornell University. Hosted by Patrycja Koz
 ik. 
DTSTART:20210326T140000Z
DTEND:20210326T150000Z
UID:TALK157648@talks.cam.ac.uk
CONTACT:Dr. Maryam Arasteh
DESCRIPTION:Abstract not available
LOCATION:Via Zoom\, for more details go to https://www.immunology.cam.ac.u
 k/
END:VEVENT
END:VCALENDAR
