BEGIN:VCALENDAR
VERSION:2.0
PRODID:-//Talks.cam//talks.cam.ac.uk//
X-WR-CALNAME:Talks.cam
BEGIN:VEVENT
SUMMARY:Human pain channelopathies - Professor David Bennett\, Nuffield De
 pt of Clinical Neurosciences\, University of Oxford
DTSTART:20210128T120000Z
DTEND:20210128T130000Z
UID:TALK155974@talks.cam.ac.uk
CONTACT:Louise Massara
DESCRIPTION:Join Zoom Meeting\nhttps://us02web.zoom.us/j/89888544328?pwd=S
 2tNWlFPZmpOZUVBRlU3SzNnVlpEUT09\n\nMeeting ID: 898 8854 4328\nPasscode: 77
 8011\n
LOCATION:Zoom (link will be given in Abstract)
END:VEVENT
END:VCALENDAR
