BEGIN:VCALENDAR
VERSION:2.0
PRODID:-//Talks.cam//talks.cam.ac.uk//
X-WR-CALNAME:Talks.cam
BEGIN:VEVENT
SUMMARY:Imagery and disasters - Dr Gabriela Ramos (Faculty of History\, Un
 iversity of Cambridge) Dr Milena Viceconte (Università di Napoli “Feder
 ico II”\, DisComPoSE Project) Dr Andrea Leiva Espitia (Université de La
  Réunion\, Centre de Recherches DIRE)
DTSTART:20210126T160000Z
DTEND:20210126T170000Z
UID:TALK155713@talks.cam.ac.uk
CONTACT:Hannah Baker
DESCRIPTION:Throughout its history\, South America has suffered several bi
 ological disasters\, some of which have strongly affected the cultural\, a
 rtistic and spiritual life of local communities\, conditioning their belie
 fs\, religious practices and political responses. This seminar explores\, 
 through three case studies\, the socio-cultural consequences of some episo
 des of pandemics on the Latin American imagery\, from the colonial period 
 to the present day.
LOCATION:https://zoom.us/j/96386934864?pwd=MlN0MVc1UDZKdnVhS3NCN09HZVU4QT0
 9
END:VEVENT
END:VCALENDAR
