BEGIN:VCALENDAR
VERSION:2.0
PRODID:-//Talks.cam//talks.cam.ac.uk//
X-WR-CALNAME:Talks.cam
BEGIN:VEVENT
SUMMARY:Environmental exposures shape the immune system early in life - Pe
 tter Brodin\,  Karolinska Institutet. Hosted by Cecilia Dominguez Conde.
DTSTART:20210122T130000Z
DTEND:20210122T140000Z
UID:TALK155233@talks.cam.ac.uk
CONTACT:Dr. Maryam Arasteh
DESCRIPTION:Abstract not available
LOCATION:Via Zoom\, for more details go to https://www.immunology.cam.ac.u
 k/
END:VEVENT
END:VCALENDAR
