BEGIN:VCALENDAR
VERSION:2.0
PRODID:-//Talks.cam//talks.cam.ac.uk//
X-WR-CALNAME:Talks.cam
BEGIN:VEVENT
SUMMARY:e3nn: A modular PyTorch framework for Euclidean Neural Networks - 
 Mario Geiger 
DTSTART:20201109T170000Z
DTEND:20201109T173000Z
UID:TALK153742@talks.cam.ac.uk
CONTACT:Bingqing Cheng
DESCRIPTION:https://e3nn.org/
LOCATION:virtual ZOOM meeting ID: 263 591 6003\, Passcode: 000042\, https:
 //us02web.zoom.us/j/2635916003?pwd=ZlBEQnRENGwxNmJGMENGMWxjak5nUT09
END:VEVENT
END:VCALENDAR
