BEGIN:VCALENDAR
VERSION:2.0
PRODID:-//Talks.cam//talks.cam.ac.uk//
X-WR-CALNAME:Talks.cam
BEGIN:VEVENT
SUMMARY:"Nutritional Metabolomics - Making the pieces fit" - Dr Don Otter
DTSTART:20081030T130000Z
DTEND:20081030T140000Z
UID:TALK15018@talks.cam.ac.uk
DESCRIPTION:Abstract not available
LOCATION:Seminar Room\, MRC Human Nutrition Research\, Elsie Widdowson Lab
 oratory\, Fulbourn Road\, Cambridge
END:VEVENT
END:VCALENDAR
