BEGIN:VCALENDAR
VERSION:2.0
PRODID:-//Talks.cam//talks.cam.ac.uk//
X-WR-CALNAME:Talks.cam
BEGIN:VEVENT
SUMMARY:Biomimetic Organocatalysis: From Concepts to Applications - Profes
 sor Magnus Rueping (University of Frankfurt\, Germany)
DTSTART:20081124T170000Z
DTEND:20081124T180000Z
UID:TALK14860@talks.cam.ac.uk
CONTACT:Duncan Simpson
DESCRIPTION:Abstract not available
LOCATION:Wolfson Lecture Theatre\,  Department of Chemistry
END:VEVENT
END:VCALENDAR
