BEGIN:VCALENDAR
VERSION:2.0
PRODID:-//Talks.cam//talks.cam.ac.uk//
X-WR-CALNAME:Talks.cam
BEGIN:VEVENT
SUMMARY:Essential Tips ~ Real SAP C_ARSUM_2002 Dumps - ronaldoalbert299
DTSTART:20200601T100000Z
DTEND:20200601T110000Z
UID:TALK143944@talks.cam.ac.uk
CONTACT:Ronaldo Albert - DELETED
DESCRIPTION:*Get Best Results with Real SAP C_ARSUM_2002 Dumps*\nLastly\, 
 the BraindumpsStore is now offering a trusted and effective preparation ma
 terial for the SAP C_ARSUM_2002 exam. BraindumpsStore packs all the useful
  C_ARSUM_2002 questions and real C_ARSUM_2002 exam scenarios in one prepar
 ation material kit that will help you easily earning the C_ARSUM_2002 exam
  certificate from SAP in the first try.\n\nGenerally\, the SAP C_ARSUM_200
 2 exam preparation material is built on the feedback of more than 90\,000 
 technology experts to satisfy all your practice needs. In the meantime\, B
 raindumpsStore provides the "C_ARSUM_2002  dumps":https://www.braindumpss
 tore.com/sap/c-arsum-2002-dumps in the following two formats:\n\n*C_ARSUM_
 2002 Dumps In PDF Format [Free Download]*\n\nTypically\, the C_ARSUM_2002 
 dumps pdf material can be easily used without any prior installation. More
 over\, the C_ARSUM_2002 PDF material is regularly updated with all the rec
 ent questions similar to the real SAP Certified Application Associate C_AR
 SUM_2002 exam from SAP. Indeed\, the C_ARSUM_2002 PDF questions material i
 s portable and printable and hence you can easily practice for the SAP Cer
 tified Application Associate - SAP Ariba Supplier Management C_ARSUM_2002 
 exam in your free time anywhere you go. Additionally\, the SAP Certified A
 pplication Associate PDF material easily fits every single smart device yo
 u own like a mobile\, tablet\, laptop\, PC\, etc.\n\n*C_ARSUM_2002 Practic
 e Exam Software*\n\nMeanwhile\, the "C_ARSUM_2002 practice test":https://w
 ww.braindumpsstore.com/sap/c-arsum-2002-dumps software includes multiple m
 ock exams with hundreds of constantly updated C_ARSUM_2002 questions that 
 are similar to real exam scenarios. Furthermore\, the C_ARSUM_2002 practic
 e test software can keep track of all your previous C_ARSUM_2002 practice 
 attempts to display the result of your improvements and changes at the end
  of each SAP Certified Application Associate C_ARSUM_2002 practice exam at
 tempt. The SAP C_ARSUM_2002 practice exam software can be customized by ti
 me and question types and hence you can use it for better self-assessment.
  One more thing is that the practice exam software is supported on all Win
 dows-based machines.\n\n*Pass C_ARSUM_2002 Exam With 100% Money Back Guara
 ntee*\nAs well as\, braindumpsstore 100% guarantees all your money back. I
 f for any reason you were not able to install any of our products or even 
 faced an issue during the product installation\, then we will refund all y
 our money back. (Terms and conditions apply kindly check our guarantee pag
 e for more information.)\n\n*For More Details Visit Here:*\n"https://www.b
 raindumpsstore.com/sap/c-arsum-2002-dumps":https://www.braindumpsstore.com
 /sap/c-arsum-2002-dumps\n\nAnother reason\, you should buy the real C_ARSU
 M_2002 dumps is that it will provide you with all the essential skills tha
 t are needed to clear the C_ARSUM_2002 exam and earn the certificate from 
 SAP.\n\n*Buy SAP C_ARSUM_2002 Exam Study Material and Get Success*\nAdditi
 onally\, braindumpsstore is continuously improving the C_ARSUM_2002 exam p
 reparation material kit to perfectly suit all your needs to smoothly pract
 ice for the SAP C_ARSUM_2002 exam. Also\, the "C_ARSUM_2002 dumps":https:/
 /www.braindumpsstore.com/sap-dumps hold a great number of comprehensive qu
 estions to allow you to practice more and more which will have a high impa
 ct on your final SAP certification exam results.\n\nHurry up and get real 
 SAP dumps questions with 100% success guaranteed.\n\n
LOCATION:3130  Doctors Drive\,Los Angeles\,California
END:VEVENT
END:VCALENDAR
