BEGIN:VCALENDAR
VERSION:2.0
PRODID:-//Talks.cam//talks.cam.ac.uk//
X-WR-CALNAME:Talks.cam
BEGIN:VEVENT
SUMMARY:domshat confirm center - Speaker to be confirmed
DTSTART:20200519T100000Z
DTEND:20200519T110000Z
UID:TALK142558@talks.cam.ac.uk
CONTACT:William
DESCRIPTION:This is a blog named "domshat":https://domshat.com/ where you 
 can watch the movies online with the help of "123movies":https://domshat.c
 om/123movies-online/. 
LOCATION:Venue to be confirmed
END:VEVENT
END:VCALENDAR
