BEGIN:VCALENDAR
VERSION:2.0
PRODID:-//Talks.cam//talks.cam.ac.uk//
X-WR-CALNAME:Talks.cam
BEGIN:VEVENT
SUMMARY:CANCELLED Representation theoretic models for the algebraic K-theo
 ry of fields - Gunnar Carlsson (Stanford University\; Stanford University)
DTSTART:20200323T160000Z
DTEND:20200323T170000Z
UID:TALK141112@talks.cam.ac.uk
CONTACT:INI IT
DESCRIPTION:Motivic cohomology provides the E_2-term of a spectral sequenc
 e converging to the algebraic K-theory of a field F.&nbsp\; It does not di
 rectly take into account the absolute Galois group of F.&nbsp\; It turns o
 ut that there is a geometric model for the algebraic K-theory of F\, build
  out of the higher dimensional representations of its absolute Galois grou
 p.&nbsp\; I will discuss results\, conjectures\, and approaches.&nbsp\; Th
 is is joint work with Roy Joshua. <br><br><br><br>
LOCATION:Seminar Room 1\, Newton Institute
END:VEVENT
END:VCALENDAR
