BEGIN:VCALENDAR
VERSION:2.0
PRODID:-//Talks.cam//talks.cam.ac.uk//
X-WR-CALNAME:Talks.cam
BEGIN:VEVENT
SUMMARY:Fingerprint matching - Archie Barrett\, Churchill College
DTSTART:20200122T193000Z
DTEND:20200122T200000Z
UID:TALK139120@talks.cam.ac.uk
CONTACT:Matthew Ireland
DESCRIPTION:Biometrics have been used as a means of identification for ove
 r a century\, and fingerprint identification in particular has slowly seen
  integration into society and more recently mainstream technology. In this
  talk I will discuss how fingerprint matching can be done with a focus on 
 fingerprint matching technology in the UK Police System.
LOCATION:Wolfson Hall\, Churchill College
END:VEVENT
END:VCALENDAR
