BEGIN:VCALENDAR
VERSION:2.0
PRODID:-//Talks.cam//talks.cam.ac.uk//
X-WR-CALNAME:Talks.cam
BEGIN:VEVENT
SUMMARY:An ab initio approach for exciton-photon interactions in molecular
  crystals - Antonis Alvertis\, TCM
DTSTART:20200212T113000Z
DTEND:20200212T123000Z
UID:TALK138988@talks.cam.ac.uk
CONTACT:Angela Harper
DESCRIPTION:In this talk\, I will introduce a first principles method for 
 evaluating the strength of exciton-photon coupling in molecular crystals. 
 I will highlight the importance of lattice vibrations and static disorder 
 for determining the magnitude of light-matter interactions. 
LOCATION:TCM Seminar Room\, Cavendish Laboratory
END:VEVENT
END:VCALENDAR
