BEGIN:VCALENDAR
VERSION:2.0
PRODID:-//Talks.cam//talks.cam.ac.uk//
X-WR-CALNAME:Talks.cam
BEGIN:VEVENT
SUMMARY:Numerical study of 3D Rayleigh-Taylor turbulence - Matsumoto\, T (
 Kyoto)
DTSTART:20081003T133000Z
DTEND:20081003T140000Z
UID:TALK13878@talks.cam.ac.uk
CONTACT:Mustapha Amrani
DESCRIPTION:The Rayleigh-Taylor turbulence in 3D space is numerically stud
 ied via the Boussinesq approximation along the same line as the 2D numeric
 al study by Celani et al. (2006 Phys.Rev.Lett. 96 134504). A comparison wi
 th the phenomenology proposed by Chertkov (2003 Phys.Rev.Lett. 91 115001)\
 , in particular deviation from the phenomenology (intermittency)\, will be
  presented.
LOCATION:Seminar Room 1\, Newton Institute
END:VEVENT
END:VCALENDAR
