BEGIN:VCALENDAR
VERSION:2.0
PRODID:-//Talks.cam//talks.cam.ac.uk//
X-WR-CALNAME:Talks.cam
BEGIN:VEVENT
SUMMARY:The genome organizer Satb1 is critical for the development of TH17
  cell-mediated immune pathology - Marc Beyer\, University of Bonn\, Hosted
  by Paul Lyons
DTSTART:20200320T130000Z
DTEND:20200320T140000Z
UID:TALK137068@talks.cam.ac.uk
CONTACT:Dr. Maryam Arasteh
DESCRIPTION:Abstract not available
LOCATION:Jeffrey Cheah Biomedical Centre\, Cambridge Biomedical Campus
END:VEVENT
END:VCALENDAR
