BEGIN:VCALENDAR
VERSION:2.0
PRODID:-//Talks.cam//talks.cam.ac.uk//
X-WR-CALNAME:Talks.cam
BEGIN:VEVENT
SUMMARY:GfGD-Sedgwick Talk - Sanna Markkanen (CISL) and Allie Mitchell (Wa
 rdell Armstrong)
DTSTART:20200217T180000Z
DTEND:20200217T190000Z
UID:TALK135877@talks.cam.ac.uk
CONTACT:Natalie Forrest
DESCRIPTION:Abstract not available
LOCATION: Harker 1\, Department of Earth Sciences\, Downing Street
END:VEVENT
END:VCALENDAR
