BEGIN:VCALENDAR
VERSION:2.0
PRODID:-//Talks.cam//talks.cam.ac.uk//
X-WR-CALNAME:Talks.cam
BEGIN:VEVENT
SUMMARY:Scaling laws in blood platelets cytoskeleton - Francois Nedelec\, 
 University of Cambridge
DTSTART:20191115T160000Z
DTEND:20191115T170000Z
UID:TALK132544@talks.cam.ac.uk
CONTACT:Diana Fusco
DESCRIPTION:Abstract not available
LOCATION: Small Lecture Theatre\, Cavendish Laboratory\, J.J. Thomson Aven
 ue
END:VEVENT
END:VCALENDAR
