BEGIN:VCALENDAR
VERSION:2.0
PRODID:-//Talks.cam//talks.cam.ac.uk//
X-WR-CALNAME:Talks.cam
BEGIN:VEVENT
SUMMARY:Amorphous Al2O3 from Atomic Layer Deposition - Angela Harper\, Uni
 versity of Cambridge
DTSTART:20191009T103000Z
DTEND:20191009T113000Z
UID:TALK131899@talks.cam.ac.uk
CONTACT:Angela Harper
DESCRIPTION:Abstract not available
LOCATION:Mott Seminar Room\, Cavendish Laboratory
END:VEVENT
END:VCALENDAR
