BEGIN:VCALENDAR
VERSION:2.0
PRODID:-//Talks.cam//talks.cam.ac.uk//
X-WR-CALNAME:Talks.cam
BEGIN:VEVENT
SUMMARY:"New insights into growth hormone and stat5 dependent regulation o
 f adipose tissue function and metabolic health" - Dr Jacqueline Stephens -
  Louisiana University
DTSTART:20191022T121500Z
DTEND:20191022T131500Z
UID:TALK129679@talks.cam.ac.uk
CONTACT:Karen Laurence
DESCRIPTION:Abstract not available
LOCATION:Institute of Metabolic Science (IMS)\, Level 4 ATC\, Seminar room
 s 1\,2 & 3
END:VEVENT
END:VCALENDAR
