BEGIN:VCALENDAR
VERSION:2.0
PRODID:-//Talks.cam//talks.cam.ac.uk//
X-WR-CALNAME:Talks.cam
BEGIN:VEVENT
SUMMARY:Cambridge Stem Cell Initiative - Professor Roger Pedersen\, Centre
  for Regenerative Medicine
DTSTART:20081001T153000Z
DTEND:20081001T160000Z
UID:TALK12818@talks.cam.ac.uk
CONTACT:Duncan Simpson
DESCRIPTION:Abstract not available
LOCATION:MR2\, Centre for Mathematical Sciences\, Wilberforce Road\, Cambr
 idge
END:VEVENT
END:VCALENDAR
