BEGIN:VCALENDAR
VERSION:2.0
PRODID:-//Talks.cam//talks.cam.ac.uk//
X-WR-CALNAME:Talks.cam
BEGIN:VEVENT
SUMMARY:Is there a Lack of Incentives to Invest in Energy Efficient Buildi
 ngs? - Franz Furst (Department of Land Economy\, University of Cambridge)
DTSTART:20190521T113000Z
DTEND:20190521T130000Z
UID:TALK122569@talks.cam.ac.uk
CONTACT:41798
DESCRIPTION:Abstract not available
LOCATION:Alison Richard Building\, Sidgwick Site\, Seminar Room SG1
END:VEVENT
END:VCALENDAR
