BEGIN:VCALENDAR
VERSION:2.0
PRODID:-//Talks.cam//talks.cam.ac.uk//
X-WR-CALNAME:Talks.cam
BEGIN:VEVENT
SUMMARY:Monte Carlo methods for $L_q$ approximation on periodic Sobolev sp
 aces with mixed smoothness - Heping Wang (Capital Normal University)
DTSTART:20190221T114000Z
DTEND:20190221T121500Z
UID:TALK120196@talks.cam.ac.uk
CONTACT:INI IT
DESCRIPTION:In this talk we consider multivariate approximation of compact
  embeddings of periodic Sobolev spaces of dominating mixed smoothness into
  the $L_q\,\\ 2&lt\; q\\leq \\infty$ space by linear Monte Carlo methods t
 hat use arbitrary linear information. We construct linear Monte Carlo meth
 ods and obtain explicit-in-dimension upper estimates. These estimates catc
 h up with the rate of convergence.
LOCATION:Seminar Room 1\, Newton Institute
END:VEVENT
END:VCALENDAR
