BEGIN:VCALENDAR
VERSION:2.0
PRODID:-//Talks.cam//talks.cam.ac.uk//
X-WR-CALNAME:Talks.cam
BEGIN:VEVENT
SUMMARY:The computational challenge of the Square Kilometre Array - Mark A
 shdown - SKA
DTSTART:20190221T130000Z
DTEND:20190221T143000Z
UID:TALK118123@talks.cam.ac.uk
CONTACT:James Fergusson
DESCRIPTION:The Square Kilometre Array (SKA) which is due to become operat
 ional in the mid-2020s will be a step change in Radio Astronomy. The delug
 e of data that the SKA will produce will be challenging to process. I will
  talk about the science goals of the SKA and the design of the high-perfor
 mance computing systems to process the data.
LOCATION:Kavli Large Meeting Room\, Kavli Building
END:VEVENT
END:VCALENDAR
