BEGIN:VCALENDAR
VERSION:2.0
PRODID:-//Talks.cam//talks.cam.ac.uk//
X-WR-CALNAME:Talks.cam
BEGIN:VEVENT
SUMMARY:"Community-based obesity and diabetes prevention Interventions - W
 hat do we know?" - Prof. Janice Thompson: The University of Bristol
DTSTART:20080519T150000Z
DTEND:20080519T160000Z
UID:TALK11596@talks.cam.ac.uk
DESCRIPTION:Abstract not available
LOCATION:MRC Human Nutrition Research\, The Elsie Widdowson Laboratory\, F
 ulbourn Road\, Cambridge
END:VEVENT
END:VCALENDAR
