BEGIN:VCALENDAR
VERSION:2.0
PRODID:-//Talks.cam//talks.cam.ac.uk//
X-WR-CALNAME:Talks.cam
BEGIN:VEVENT
SUMMARY:Multicatalytic Transformations with and without Light - Professor 
 Kirsten Zeitler\, Institut für Organische Chemie\, Universitat Leipzig.
DTSTART:20181219T140000Z
DTEND:20181219T150000Z
UID:TALK115579@talks.cam.ac.uk
CONTACT:53611
DESCRIPTION:Abstract not available
LOCATION:Unilever Lecture Theatre
END:VEVENT
END:VCALENDAR
