BEGIN:VCALENDAR
VERSION:2.0
PRODID:-//Talks.cam//talks.cam.ac.uk//
X-WR-CALNAME:Talks.cam
BEGIN:VEVENT
SUMMARY:TBC - Aaron Weinkers
DTSTART:20181128T100000Z
DTEND:20181128T110000Z
UID:TALK115138@talks.cam.ac.uk
CONTACT:Leo Middleton
DESCRIPTION:Abstract not available
LOCATION:CMS\, MR20
END:VEVENT
END:VCALENDAR
