BEGIN:VCALENDAR
VERSION:2.0
PRODID:-//Talks.cam//talks.cam.ac.uk//
X-WR-CALNAME:Talks.cam
BEGIN:VEVENT
SUMMARY:SmRNA cap methylation and its role in transcription - Dhaval Varsh
 ney\, Department of Chemistry
DTSTART:20181025T170000Z
DTEND:20181025T190000Z
UID:TALK115108@talks.cam.ac.uk
CONTACT:Alper Akay
DESCRIPTION:Abstract not available
LOCATION:Gurdon Institute Tea Room
END:VEVENT
END:VCALENDAR
