BEGIN:VCALENDAR
VERSION:2.0
PRODID:-//Talks.cam//talks.cam.ac.uk//
X-WR-CALNAME:Talks.cam
BEGIN:VEVENT
SUMMARY:Babraham Distinguished Lecture - "Control of B cell immunity and l
 eukemia by the transcription factor Pax5" - Prof. Meinrad Busslinger\; Sci
 entific Deputy Director / Senior Scientist\, Research Institute of Molecul
 ar Pathology\, Vienna\, Austria
DTSTART:20190628T130000Z
DTEND:20190628T140000Z
UID:TALK115051@talks.cam.ac.uk
CONTACT:Bobbie Claxton
DESCRIPTION:Abstract not available
LOCATION:Babraham - The Cambridge Building - The Petersfield Lecture Theat
 re
END:VEVENT
END:VCALENDAR
