BEGIN:VCALENDAR
VERSION:2.0
PRODID:-//Talks.cam//talks.cam.ac.uk//
X-WR-CALNAME:Talks.cam
BEGIN:VEVENT
SUMMARY:The origins of Neotropical mega-diversity - Alexandre Antonelli\, 
 Kew
DTSTART:20190307T130000Z
DTEND:20190307T140000Z
UID:TALK114895@talks.cam.ac.uk
CONTACT:david baulcombe
DESCRIPTION:Prof Antonelli is at Gothenburg but by the time he visits us h
 e will have started as the new Director of Science at Kew.
LOCATION:Department of Plant Sciences\, Large Lecture Theatre
END:VEVENT
END:VCALENDAR
