BEGIN:VCALENDAR
VERSION:2.0
PRODID:-//Talks.cam//talks.cam.ac.uk//
X-WR-CALNAME:Talks.cam
BEGIN:VEVENT
SUMMARY:ESTABLISHING TRUST AND TRUSTWORTHINESS IN GLOBAL BUSINESSES - Öza
 lp Özer\, Ashbel Smith Chair Professor of Management Science\, The Univer
 sity of Texas at Dallas
DTSTART:20181009T110000Z
DTEND:20181009T130000Z
UID:TALK112855@talks.cam.ac.uk
CONTACT:Emily Brown
DESCRIPTION:In this presentation\, we will discuss when\, how\, and why th
 e behavioral motives of trust and trustworthiness arise to support coopera
 tion within and across businesses.\n\nWe identify four building blocks of 
 trust and trustworthiness: personal values and norms\, market environment\
 , business infrastructure\, and business process design. We will elaborate
  on these building blocks and offer tangible insights about how to establi
 sh trusting and cooperative business relationships. To do so\, we will pro
 vide a high level summary of some research results and case studies from a
 cross industries.\n
LOCATION:W2.01\, Cambridge Judge Business School
END:VEVENT
END:VCALENDAR
