BEGIN:VCALENDAR
VERSION:2.0
PRODID:-//Talks.cam//talks.cam.ac.uk//
X-WR-CALNAME:Talks.cam
BEGIN:VEVENT
SUMMARY:Recovery of Compressible Seismic Signals from Multichannel Samples
  - Ali Özbek (Schlumberger Cambridge Research)
DTSTART:20180621T105000Z
DTEND:20180621T112000Z
UID:TALK107332@talks.cam.ac.uk
CONTACT:INI IT
DESCRIPTION:
LOCATION:Seminar Room 1\, Newton Institute
END:VEVENT
END:VCALENDAR
