BEGIN:VCALENDAR
VERSION:2.0
PRODID:-//Talks.cam//talks.cam.ac.uk//
X-WR-CALNAME:Talks.cam
BEGIN:VEVENT
SUMMARY:Development and activity-dependent plasticity of olfactory bulb do
 paminergic neurons - Elisa Galliano KCL/University of Cambridge
DTSTART:20180607T110000Z
DTEND:20180607T120000Z
UID:TALK106291@talks.cam.ac.uk
CONTACT:Dr Romina Vuono
DESCRIPTION: 
LOCATION:James Fawcett Seminar Room\, van Geest Building (formerly 'the li
 brary')
END:VEVENT
END:VCALENDAR
