BEGIN:VCALENDAR
VERSION:2.0
PRODID:-//Talks.cam//talks.cam.ac.uk//
X-WR-CALNAME:Talks.cam
BEGIN:VEVENT
SUMMARY:‘Macropinocytosis in macrophages’ - Joel Swanson\, University 
 of Michigan
DTSTART:20180523T150000Z
DTEND:20180523T160000Z
UID:TALK103552@talks.cam.ac.uk
CONTACT:Charlotte Ross
DESCRIPTION:Abstract not available
LOCATION:The Max Perutz Lecture Theatre\, MRC-LMB\, Francis Crick Avenue\,
  Cambridge CB2 0QH
END:VEVENT
END:VCALENDAR
