BEGIN:VCALENDAR
VERSION:2.0
PRODID:-//Talks.cam//talks.cam.ac.uk//
X-WR-CALNAME:Talks.cam
BEGIN:VEVENT
SUMMARY:Modelling semiflexible chains\, filaments\, and their networks - P
 rofessor Eugene Terentjev\, Cavendish Laboratory\, University of Cambridge
DTSTART:20080222T113000Z
DTEND:20080222T114000Z
UID:TALK10303@talks.cam.ac.uk
CONTACT:Duncan Simpson
DESCRIPTION:A brief overview of several current projects in the group\, bo
 th theoretical and experimental. The projects range from peptide aggregati
 on kinetics and morphology of chiral twisted filaments\, to (passive) mech
 anical properties of semiflexible and rigid filaments\, to thermal and mot
 or-driven kinetics of chains\, filaments and whole cells.
LOCATION:Sackler Lecture Theatre (Level 7)\, Cambridge Institute for Medic
 al Research
END:VEVENT
END:VCALENDAR
